BEGIN:VCALENDAR
VERSION:2.0
PRODID:https://www.sanders.com.au
BEGIN:VEVENT
UID:69e6c7b3456bb
DTSTART:20260424T004500Z
SEQUENCE:0
TRANSP:OPAQUE
DTEND:20260424T011500Z
SUMMARY:Inspection: 153 Como Parade\, Como 2226\, 
CLASS:PUBLIC
DTSTAMP:20260421T004123Z
END:VEVENT
END:VCALENDAR