BEGIN:VCALENDAR
VERSION:2.0
PRODID:https://www.sanders.com.au
BEGIN:VEVENT
UID:69e6c7b243b3f
DTSTART:20260422T064500Z
SEQUENCE:0
TRANSP:OPAQUE
DTEND:20260422T071500Z
SUMMARY:Inspection: 153 Como Parade\, Como 2226\, 
CLASS:PUBLIC
DTSTAMP:20260421T004122Z
END:VEVENT
END:VCALENDAR