BEGIN:VCALENDAR
VERSION:2.0
PRODID:https://www.sanders.com.au
BEGIN:VEVENT
UID:69e984f5849a5
DTSTART:20260424T000500Z
SEQUENCE:0
TRANSP:OPAQUE
DTEND:20260424T002000Z
SUMMARY:Inspection: 19/30-36 Belmont Street\, Sutherland 2232\, 
CLASS:PUBLIC
DTSTAMP:20260423T023325Z
END:VEVENT
END:VCALENDAR