BEGIN:VCALENDAR
VERSION:2.0
PRODID:https://www.sanders.com.au
BEGIN:VEVENT
UID:69e984f54cde6
DTSTART:20260424T063000Z
SEQUENCE:0
TRANSP:OPAQUE
DTEND:20260424T064500Z
SUMMARY:Inspection: 72A National Avenue\, Loftus 2232\, 
CLASS:PUBLIC
DTSTAMP:20260423T023325Z
END:VEVENT
END:VCALENDAR