BEGIN:VCALENDAR
VERSION:2.0
PRODID:https://www.sanders.com.au
BEGIN:VEVENT
UID:69e984bcbdd7a
DTSTART:20260423T230000Z
SEQUENCE:0
TRANSP:OPAQUE
DTEND:20260423T231500Z
SUMMARY:Inspection: 7 Pindari Avenue\, Loftus 2232\, 
CLASS:PUBLIC
DTSTAMP:20260423T023228Z
END:VEVENT
END:VCALENDAR