BEGIN:VCALENDAR
VERSION:2.0
PRODID:https://www.sanders.com.au
BEGIN:VEVENT
UID:69e984fa24cba
DTSTART:20260424T004000Z
SEQUENCE:0
TRANSP:OPAQUE
DTEND:20260424T005500Z
SUMMARY:Inspection: Unit 6/13-21 Oxford Street\, Sutherland 2232\, 
CLASS:PUBLIC
DTSTAMP:20260423T023330Z
END:VEVENT
END:VCALENDAR