BEGIN:VCALENDAR
VERSION:2.0
PRODID:https://www.sanders.com.au
BEGIN:VEVENT
UID:69e984bc819c6
DTSTART:20260423T230000Z
SEQUENCE:0
TRANSP:OPAQUE
DTEND:20260423T231500Z
SUMMARY:Inspection: 117 Carvers Road\, Oyster Bay 2225\, 
CLASS:PUBLIC
DTSTAMP:20260423T023228Z
END:VEVENT
END:VCALENDAR