BEGIN:VCALENDAR
VERSION:2.0
PRODID:https://www.sanders.com.au
BEGIN:VEVENT
UID:69e6c7ca3b6c6
DTSTART:20260426T020000Z
SEQUENCE:0
TRANSP:OPAQUE
DTEND:20260426T023000Z
SUMMARY:Inspection: 6 Camden Street\, Sylvania 2224\, 
CLASS:PUBLIC
DTSTAMP:20260421T004146Z
END:VEVENT
END:VCALENDAR