BEGIN:VCALENDAR
VERSION:2.0
PRODID:https://www.sanders.com.au
BEGIN:VEVENT
UID:69e6c7b0daf7f
DTSTART:20260422T070000Z
SEQUENCE:0
TRANSP:OPAQUE
DTEND:20260422T073000Z
SUMMARY:Inspection: 6 Camden Street\, Sylvania 2224\, 
CLASS:PUBLIC
DTSTAMP:20260421T004120Z
END:VEVENT
END:VCALENDAR