BEGIN:VCALENDAR
VERSION:2.0
PRODID:https://www.sanders.com.au
BEGIN:VEVENT
UID:69e6c7b1bde15
DTSTART:20260424T013000Z
SEQUENCE:0
TRANSP:OPAQUE
DTEND:20260424T020000Z
SUMMARY:Inspection: 39 Caravan Head Road\, Oyster Bay 2225\, 
CLASS:PUBLIC
DTSTAMP:20260421T004121Z
END:VEVENT
END:VCALENDAR