BEGIN:VCALENDAR
VERSION:2.0
PRODID:https://www.sanders.com.au
BEGIN:VEVENT
UID:69e6c7a49bd0c
DTSTART:20260422T054500Z
SEQUENCE:0
TRANSP:OPAQUE
DTEND:20260422T061500Z
SUMMARY:Inspection: 39 Caravan Head Road\, Oyster Bay 2225\, 
CLASS:PUBLIC
DTSTAMP:20260421T004108Z
END:VEVENT
END:VCALENDAR