BEGIN:VCALENDAR
VERSION:2.0
PRODID:https://www.sanders.com.au
BEGIN:VEVENT
UID:69e6c7d0cdbbf
DTSTART:20260502T010000Z
SEQUENCE:0
TRANSP:OPAQUE
DTEND:20260502T013000Z
SUMMARY:Inspection: 7/55 Auburn Street\, Sutherland 2232\, 
CLASS:PUBLIC
DTSTAMP:20260421T004152Z
END:VEVENT
END:VCALENDAR