BEGIN:VCALENDAR
VERSION:2.0
PRODID:https://www.sanders.com.au
BEGIN:VEVENT
UID:69e6c7cfc673e
DTSTART:20260428T070000Z
SEQUENCE:0
TRANSP:OPAQUE
DTEND:20260428T073000Z
SUMMARY:Inspection: 7/55 Auburn Street\, Sutherland 2232\, 
CLASS:PUBLIC
DTSTAMP:20260421T004151Z
END:VEVENT
END:VCALENDAR