BEGIN:VCALENDAR
VERSION:2.0
PRODID:https://www.sanders.com.au
BEGIN:VEVENT
UID:69e6c819c7803
DTSTART:20260423T070000Z
SEQUENCE:0
TRANSP:OPAQUE
DTEND:20260423T073000Z
SUMMARY:Inspection: 7/55 Auburn Street\, Sutherland 2232\, 
CLASS:PUBLIC
DTSTAMP:20260421T004305Z
END:VEVENT
END:VCALENDAR