BEGIN:VCALENDAR
VERSION:2.0
PRODID:https://www.sanders.com.au
BEGIN:VEVENT
UID:69e6c7ccf0862
DTSTART:20260502T000000Z
SEQUENCE:0
TRANSP:OPAQUE
DTEND:20260502T003000Z
SUMMARY:Inspection: C303/1081 Old Princes Highway\, Engadine 2233\, 
CLASS:PUBLIC
DTSTAMP:20260421T004148Z
END:VEVENT
END:VCALENDAR