BEGIN:VCALENDAR
VERSION:2.0
PRODID:https://www.sanders.com.au
BEGIN:VEVENT
UID:69e6c7cfc66af
DTSTART:20260428T060000Z
SEQUENCE:0
TRANSP:OPAQUE
DTEND:20260428T063000Z
SUMMARY:Inspection: C303/1081 Old Princes Highway\, Engadine 2233\, 
CLASS:PUBLIC
DTSTAMP:20260421T004151Z
END:VEVENT
END:VCALENDAR