BEGIN:VCALENDAR
VERSION:2.0
PRODID:https://www.sanders.com.au
BEGIN:VEVENT
UID:69e6c81c5df7a
DTSTART:20260423T060000Z
SEQUENCE:0
TRANSP:OPAQUE
DTEND:20260423T063000Z
SUMMARY:Inspection: C303/1081 Old Princes Highway\, Engadine 2233\, 
CLASS:PUBLIC
DTSTAMP:20260421T004308Z
END:VEVENT
END:VCALENDAR