BEGIN:VCALENDAR
VERSION:2.0
PRODID:https://www.sanders.com.au
BEGIN:VEVENT
UID:69e6c81ac8c89
DTSTART:20260422T050000Z
SEQUENCE:0
TRANSP:OPAQUE
DTEND:20260422T053000Z
SUMMARY:Inspection: 34 Seventh Avenue\, Jannali 2226\, 
CLASS:PUBLIC
DTSTAMP:20260421T004306Z
END:VEVENT
END:VCALENDAR