BEGIN:VCALENDAR
VERSION:2.0
PRODID:https://www.sanders.com.au
BEGIN:VEVENT
UID:69ecb0d0da987
DTSTART:20260426T010000Z
SEQUENCE:0
TRANSP:OPAQUE
DTEND:20260426T013000Z
SUMMARY:Inspection: 29 Wollun Street\, Como 2226\, 
CLASS:PUBLIC
DTSTAMP:20260425T121720Z
END:VEVENT
END:VCALENDAR