BEGIN:VCALENDAR
VERSION:2.0
PRODID:https://www.sanders.com.au
BEGIN:VEVENT
UID:69e6c7a48acef
DTSTART:20260502T020000Z
SEQUENCE:0
TRANSP:OPAQUE
DTEND:20260502T023000Z
SUMMARY:Inspection: 66 View Street\, Miranda 2228\, 
CLASS:PUBLIC
DTSTAMP:20260421T004108Z
END:VEVENT
END:VCALENDAR