BEGIN:VCALENDAR
VERSION:2.0
PRODID:https://www.sanders.com.au
BEGIN:VEVENT
UID:69e6c7b3be0e4
DTSTART:20260428T080000Z
SEQUENCE:0
TRANSP:OPAQUE
DTEND:20260428T083000Z
SUMMARY:Inspection: 66 View Street\, Miranda 2228\, 
CLASS:PUBLIC
DTSTAMP:20260421T004123Z
END:VEVENT
END:VCALENDAR