BEGIN:VCALENDAR
VERSION:2.0
PRODID:https://www.sanders.com.au
BEGIN:VEVENT
UID:69e6c7cc3f8c6
DTSTART:20260502T050000Z
SEQUENCE:0
TRANSP:OPAQUE
DTEND:20260502T053000Z
SUMMARY:Inspection: 132 Siandra Drive\, Kareela 2232\, 
CLASS:PUBLIC
DTSTAMP:20260421T004148Z
END:VEVENT
END:VCALENDAR