BEGIN:VCALENDAR
VERSION:2.0
PRODID:https://www.sanders.com.au
BEGIN:VEVENT
UID:69e6c7cb3d236
DTSTART:20260428T060000Z
SEQUENCE:0
TRANSP:OPAQUE
DTEND:20260428T063000Z
SUMMARY:Inspection: 132 Siandra Drive\, Kareela 2232\, 
CLASS:PUBLIC
DTSTAMP:20260421T004147Z
END:VEVENT
END:VCALENDAR