BEGIN:VCALENDAR
VERSION:2.0
PRODID:https://www.sanders.com.au
BEGIN:VEVENT
UID:69e858fb30cb7
DTSTART:20260424T023000Z
SEQUENCE:0
TRANSP:OPAQUE
DTEND:20260424T030000Z
SUMMARY:Inspection: 12/2-4 Adelong Street\, Sutherland 2232\, 
CLASS:PUBLIC
DTSTAMP:20260422T051331Z
END:VEVENT
END:VCALENDAR