BEGIN:VCALENDAR
VERSION:2.0
PRODID:https://www.sanders.com.au
BEGIN:VEVENT
UID:69e6c7b0db019
DTSTART:20260422T060000Z
SEQUENCE:0
TRANSP:OPAQUE
DTEND:20260422T063000Z
SUMMARY:Inspection: 125 Caravan Head Road\, Oyster Bay 2225\, 
CLASS:PUBLIC
DTSTAMP:20260421T004120Z
END:VEVENT
END:VCALENDAR