BEGIN:VCALENDAR
VERSION:2.0
PRODID:https://www.sanders.com.au
BEGIN:VEVENT
UID:69e6c7d2cf69d
DTSTART:20260421T040000Z
SEQUENCE:0
TRANSP:OPAQUE
DTEND:20260421T043000Z
SUMMARY:Inspection: 125 Caravan Head Road\, Oyster Bay 2225\, 
CLASS:PUBLIC
DTSTAMP:20260421T004154Z
END:VEVENT
END:VCALENDAR