BEGIN:VCALENDAR
VERSION:2.0
PRODID:https://www.sanders.com.au
BEGIN:VEVENT
UID:69e85ad34df5a
DTSTART:20260424T071500Z
SEQUENCE:0
TRANSP:OPAQUE
DTEND:20260424T074500Z
SUMMARY:Inspection: 132 Georges River Road\, Jannali 2226\, 
CLASS:PUBLIC
DTSTAMP:20260422T052123Z
END:VEVENT
END:VCALENDAR