BEGIN:VCALENDAR
VERSION:2.0
PRODID:https://www.sanders.com.au
BEGIN:VEVENT
UID:69e6c7d15465f
DTSTART:20260502T030000Z
SEQUENCE:0
TRANSP:OPAQUE
DTEND:20260502T033000Z
SUMMARY:Inspection: 99 Kangaroo Point Road\, Kangaroo Point 2224\, 
CLASS:PUBLIC
DTSTAMP:20260421T004153Z
END:VEVENT
END:VCALENDAR