BEGIN:VCALENDAR
VERSION:2.0
PRODID:https://www.sanders.com.au
BEGIN:VEVENT
UID:69e6c7c96e7df
DTSTART:20260428T070000Z
SEQUENCE:0
TRANSP:OPAQUE
DTEND:20260428T073000Z
SUMMARY:Inspection: 99 Kangaroo Point Road\, Kangaroo Point 2224\, 
CLASS:PUBLIC
DTSTAMP:20260421T004145Z
END:VEVENT
END:VCALENDAR