BEGIN:VCALENDAR
VERSION:2.0
PRODID:https://www.sanders.com.au
BEGIN:VEVENT
UID:69e6c7d0530f8
DTSTART:20260423T070000Z
SEQUENCE:0
TRANSP:OPAQUE
DTEND:20260423T073000Z
SUMMARY:Inspection: 99 Kangaroo Point Road\, Kangaroo Point 2224\, 
CLASS:PUBLIC
DTSTAMP:20260421T004152Z
END:VEVENT
END:VCALENDAR