BEGIN:VCALENDAR
VERSION:2.0
PRODID:https://www.sanders.com.au
BEGIN:VEVENT
UID:69e6c7b2bda37
DTSTART:20260421T060000Z
SEQUENCE:0
TRANSP:OPAQUE
DTEND:20260421T063000Z
SUMMARY:Inspection: 274 Prices Circuit\, Woronora 2232\, 
CLASS:PUBLIC
DTSTAMP:20260421T004122Z
END:VEVENT
END:VCALENDAR