BEGIN:VCALENDAR
VERSION:2.0
PRODID:https://www.sanders.com.au
BEGIN:VEVENT
UID:69e85ad36b7c5
DTSTART:20260426T010000Z
SEQUENCE:0
TRANSP:OPAQUE
DTEND:20260426T013000Z
SUMMARY:Inspection: 33/24 Toronto  Parade\, Sutherland 2232\, 
CLASS:PUBLIC
DTSTAMP:20260422T052123Z
END:VEVENT
END:VCALENDAR