BEGIN:VCALENDAR
VERSION:2.0
PRODID:https://www.sanders.com.au
BEGIN:VEVENT
UID:69e6c7d256be2
DTSTART:20260423T063000Z
SEQUENCE:0
TRANSP:OPAQUE
DTEND:20260423T070000Z
SUMMARY:Inspection: 33/24 Toronto  Parade\, Sutherland 2232\, 
CLASS:PUBLIC
DTSTAMP:20260421T004154Z
END:VEVENT
END:VCALENDAR