BEGIN:VCALENDAR
VERSION:2.0
PRODID:https://www.sanders.com.au
BEGIN:VEVENT
UID:69e6c81b5cdc8
DTSTART:20260422T070000Z
SEQUENCE:0
TRANSP:OPAQUE
DTEND:20260422T073000Z
SUMMARY:Inspection: 129 Novara Crescent\, Jannali 2226\, 
CLASS:PUBLIC
DTSTAMP:20260421T004307Z
END:VEVENT
END:VCALENDAR