BEGIN:VCALENDAR
VERSION:2.0
PRODID:https://www.sanders.com.au
BEGIN:VEVENT
UID:69e6c7cbba69f
DTSTART:20260421T070000Z
SEQUENCE:0
TRANSP:OPAQUE
DTEND:20260421T073000Z
SUMMARY:Inspection: 21 Bridgeview Road\, Yarrawarrah 2233\, 
CLASS:PUBLIC
DTSTAMP:20260421T004147Z
END:VEVENT
END:VCALENDAR