BEGIN:VCALENDAR
VERSION:2.0
PRODID:https://www.sanders.com.au
BEGIN:VEVENT
UID:69e6c7a5d2004
DTSTART:20260424T063000Z
SEQUENCE:0
TRANSP:OPAQUE
DTEND:20260424T070000Z
SUMMARY:Inspection: 25 Rossford Avenue\, Jannali 2226\, 
CLASS:PUBLIC
DTSTAMP:20260421T004109Z
END:VEVENT
END:VCALENDAR